BEGIN:VCALENDAR
VERSION:2.0
METHOD:PUBLISH
BEGIN:VEVENT
DTSTAMP:20260424T065349Z
DTSTART:20210617T143000Z
DTEND:20210617T150000Z
SUMMARY:Virtual Storytime on Facebook
LOCATION:Virtual 
END:VEVENT
END:VCALENDAR
