BEGIN:VCALENDAR
VERSION:2.0
METHOD:PUBLISH
BEGIN:VEVENT
DTSTAMP:20260422T175938Z
DTSTART:20221113T190000Z
DTEND:20221113T210000Z
SUMMARY:Santa Claus Parade
LOCATION:EG Civic Centre along Mount Albert Road to EG Sports Complex
END:VEVENT
END:VCALENDAR
