BEGIN:VCALENDAR
VERSION:2.0
METHOD:PUBLISH
BEGIN:VEVENT
DTSTAMP:20260420T223628Z
DTSTART:20230104T233000Z
DTEND:20230105T003000Z
SUMMARY:Lego Club
LOCATION:19300 Centre Street
END:VEVENT
END:VCALENDAR
