BEGIN:VCALENDAR
VERSION:2.0
METHOD:PUBLISH
BEGIN:VEVENT
DTSTAMP:20260421T001036Z
DTSTART:20230201T233000Z
DTEND:20230202T003000Z
SUMMARY:Lego Club
LOCATION:19300 Centre Street
END:VEVENT
END:VCALENDAR
