BEGIN:VCALENDAR
VERSION:2.0
METHOD:PUBLISH
BEGIN:VEVENT
DTSTAMP:20260422T182822Z
DTSTART:20230914T210000Z
DTEND:20230915T000000Z
SUMMARY:Public Open House Notice - Active Transportation and Trails Master Plan Update
LOCATION:19000 Leslie Street
END:VEVENT
END:VCALENDAR
